BEGIN:VCALENDAR
VERSION:2.0
PRODID:-//Corpquants Tranining Center - ECPv6.15.20//NONSGML v1.0//EN
CALSCALE:GREGORIAN
METHOD:PUBLISH
X-ORIGINAL-URL:https://trainings.corpquants.ro
X-WR-CALDESC:Evenimente pentru Corpquants Tranining Center
REFRESH-INTERVAL;VALUE=DURATION:PT1H
X-Robots-Tag:noindex
X-PUBLISHED-TTL:PT1H
BEGIN:VTIMEZONE
TZID:Europe/Helsinki
BEGIN:DAYLIGHT
TZOFFSETFROM:+0200
TZOFFSETTO:+0300
TZNAME:EEST
DTSTART:20250330T010000
END:DAYLIGHT
BEGIN:STANDARD
TZOFFSETFROM:+0300
TZOFFSETTO:+0200
TZNAME:EET
DTSTART:20251026T010000
END:STANDARD
BEGIN:DAYLIGHT
TZOFFSETFROM:+0200
TZOFFSETTO:+0300
TZNAME:EEST
DTSTART:20260329T010000
END:DAYLIGHT
BEGIN:STANDARD
TZOFFSETFROM:+0300
TZOFFSETTO:+0200
TZNAME:EET
DTSTART:20261025T010000
END:STANDARD
BEGIN:DAYLIGHT
TZOFFSETFROM:+0200
TZOFFSETTO:+0300
TZNAME:EEST
DTSTART:20270328T010000
END:DAYLIGHT
BEGIN:STANDARD
TZOFFSETFROM:+0300
TZOFFSETTO:+0200
TZNAME:EET
DTSTART:20271031T010000
END:STANDARD
END:VTIMEZONE
BEGIN:VEVENT
DTSTART;TZID=Europe/Helsinki:20260406T090000
DTEND;TZID=Europe/Helsinki:20260406T170000
DTSTAMP:20260424T163358
CREATED:20260320T092534Z
LAST-MODIFIED:20260320T094511Z
UID:7689-1775466000-1775494800@trainings.corpquants.ro
SUMMARY:Generative AI în Companii
DESCRIPTION:Eveniment IBR | 06.04.2026 |\n  \n\n\n\n    Curs oferit de IBR (Institutul Bancar Român)\, dedicat modului în care Generative AI poate deveni un avantaj competitiv real într-o lume în care viteza de execuție și calitatea deciziilor fac diferența.\n   \n\n    Vei înțelege unde merită folosit\, cum poate fi controlat și cum pot fi evitate capcanele\, astfel încât utilizarea AI să aducă valoare concretă și sustenabilă în companie.\n   \n  \n    Vezi detaliile cursului →
URL:https://trainings.corpquants.ro/event/generative-ai-in-companii/
CATEGORIES:Machine Learning & AI
ATTACH;FMTTYPE=image/png:https://trainings.corpquants.ro/wp-content/uploads/2026/02/postImage_adhoc_promptsvscards.png
END:VEVENT
END:VCALENDAR